BEGIN:VCALENDAR
VERSION:2.0
PRODID:-//Skovpavillonen//NONSGML kigkonsult.se iCalcreator 2.30.10//
CALSCALE:GREGORIAN
METHOD:PUBLISH
UID:25e46f41-f703-4c77-9634-45fd09a115c2
X-WR-CALNAME:iCagenda
X-WR-CALDESC:Event Management Extension for Joomla!
X-WR-RELCALID:3E26604A-50F4-4449-8B3E-E4F4932D05B5
X-WR-TIMEZONE:UTC
BEGIN:VTIMEZONE
TZID:UTC
END:VTIMEZONE
BEGIN:VEVENT
UID:ce06b7f4-f074-4f87-b700-9a4a21c53ac9
DTSTAMP:20260421T082332Z
CATEGORIES:Udlejet
CLASS:PUBLIC
DESCRIPTION:
DTSTART:20250501T114200Z
DTEND:20250501T114300Z
GEO:00;0
LOCATION:
ORGANIZER:
SEQUENCE:1
SUMMARY:2538 arb kampd.
TRANSP:OPAQUE
URL:https://skovpavillonen-assens.dk/component/icagenda/145-2538-arb-kampd
END:VEVENT
END:VCALENDAR
