BEGIN:VCALENDAR
VERSION:2.0
PRODID:-//Skovpavillonen//NONSGML kigkonsult.se iCalcreator 2.30.10//
CALSCALE:GREGORIAN
METHOD:PUBLISH
UID:c4ac884b-5dbe-4956-b3b8-45666f988b6d
X-WR-CALNAME:iCagenda
X-WR-CALDESC:Event Management Extension for Joomla!
X-WR-RELCALID:3E26604A-50F4-4449-8B3E-E4F4932D05B5
X-WR-TIMEZONE:UTC
BEGIN:VTIMEZONE
TZID:UTC
END:VTIMEZONE
BEGIN:VEVENT
UID:6214262b-2ea8-456e-9957-f12bdb8e0cab
DTSTAMP:20260421T082810Z
CATEGORIES:Udlejet
CLASS:PUBLIC
DESCRIPTION:
DTSTART:20250413T121700Z
DTEND:20250413T121700Z
GEO:00;0
LOCATION:
ORGANIZER:
SEQUENCE:1
SUMMARY:th cafe
TRANSP:OPAQUE
URL:https://skovpavillonen-assens.dk/component/icagenda/134-th-cafe
END:VEVENT
END:VCALENDAR
